Workbook

Sheet Orçamento EMPRESA
A2: DADOS DA EMPRESA
A3: DADOS DA EMPRESA
A6: Planilha de Orçamento - GLOBAL
A8: Obra: Ampliação da Passarela Coberta | F8: Endereço: Rua Ana Gonçalves da Silva, 901
A9: Cliente: Instituto Federal Sul-Rio-Grandense | F9: Cidade: Camaquã - RS | J9: BDI = | K9: 0 | L9: 43709
A10: Item/Descrição | B10: Qtd. | C10: Un | D10: Mão-de-Obra | F10: Material | H10: Custo Unit. Total | I10: Custo Direto | J10: BDI | L10: Sub-Total do Item | M10: Total do Item
D11: Custo Unitário | E11: Custo Parcial | F11: Custo Unitário | G11: Custo Parcial | J11: Valor | K11: %
A13: 2. SERVIÇOS PRELIMINARES / TÉCNICOS | M13: =SUM(L14:L23) -> 0
A14: 2. 5. INSTALAÇÃO DO CANTEIRO DE OBRAS | E14: =D14*B14 -> 0 | G14: =F14*B14 -> 0 | H14: =+D14+F14 -> 0 | I14: =E14+G14 -> 0 | J14: =K14*I14 -> 0 | L14: =I14+J14 -> 0
A15: 2. 5. 2. ESCRITÓRIO E ALMOXARIFADO | E15: =D15*B15 -> 0 | G15: =F15*B15 -> 0 | H15: =+D15+F15 -> 0 | I15: =E15+G15 -> 0 | J15: =K15*I15 -> 0 | L15: =I15+J15 -> 0
A16: .1 CONTAINER P/ ESCRIT. E ALMOX. | B16: 1 | C16: MS | E16: =D16*B16 -> 0 | G16: =F16*B16 -> 0 | H16: =+D16+F16 -> 0 | I16: =E16+G16 -> 0 | J16: =K16*I16 -> 0 | K16: =$K$9 -> 0 | L16: =I16+J16 -> 0
A17: 2. 6. TAPUMES | E17: =D17*B17 -> 0 | G17: =F17*B17 -> 0 | H17: =+D17+F17 -> 0 | I17: =E17+G17 -> 0 | J17: =K17*I17 -> 0 | L17: =I17+J17 -> 0
A18: 2. 6. 3. TELA DE POLIETILENO | E18: =D18*B18 -> 0 | G18: =F18*B18 -> 0 | H18: =+D18+F18 -> 0 | I18: =E18+G18 -> 0 | J18: =K18*I18 -> 0 | L18: =I18+J18 -> 0
A19: .1 TAPUME COM TELA DE POLIETILENO, ALTURA 1,20M, INCL. SUPORTE | B19: 70 | C19: M | E19: =D19*B19 -> 0 | G19: =F19*B19 -> 0 | H19: =+D19+F19 -> 0 | I19: =E19+G19 -> 0 | J19: =K19*I19 -> 0 | K19: =$K$9 -> 0 | L19: =I19+J19 -> 0
A20: 2. 7. PLACAS DE IDENTIFICAÇÃO DE EXERCÍCIO PROFISSIONAL EM OBRAS | E20: =D20*B20 -> 0 | G20: =F20*B20 -> 0 | H20: =+D20+F20 -> 0 | I20: =E20+G20 -> 0 | J20: =K20*I20 -> 0 | L20: =I20+J20 -> 0
A21: .1 PLACA DE OBRA-PINTADA/FIXADA ESTRUTURA DE MADEIRA | B21: 2.03 | C21: M2 | E21: =D21*B21 -> 0 | G21: =F21*B21 -> 0 | H21: =+D21+F21 -> 0 | I21: =E21+G21 -> 0 | J21: =K21*I21 -> 0 | K21: =$K$9 -> 0 | L21: =I21+J21 -> 0
A22: 2. 9. LOCAÇÃO DA OBRA | E22: =D22*B22 -> 0 | G22: =F22*B22 -> 0 | H22: =+D22+F22 -> 0 | I22: =E22+G22 -> 0 | J22: =K22*I22 -> 0
A23: .1 LOCAÇÃO DE OBRA POR M2 CONSTRUIDO | B23: 62 | C23: M2 | E23: =D23*B23 -> 0 | G23: =F23*B23 -> 0 | H23: =+D23+F23 -> 0 | I23: =E23+G23 -> 0 | J23: =K23*I23 -> 0 | K23: =$K$9 -> 0 | L23: =I23+J23 -> 0
A24: 3. MOVIMENTO DE TERRA | M24: =SUM(L25:L26) -> 0
A25: 3. 1. ESCAVAÇÕES | E25: =D25*B25 -> 0 | G25: =F25*B25 -> 0 | H25: =+D25+F25 -> 0 | I25: =E25+G25 -> 0 | J25: =K25*I25 -> 0 | L25: =I25+J25 -> 0
A26: .1 ESCAVACAO MANUAL DE SOLO DE 1A. ATE 1,50M | B26: 0.88 | C26: M3 | E26: =D26*B26 -> 0 | G26: =F26*B26 -> 0 | H26: =+D26+F26 -> 0 | I26: =E26+G26 -> 0 | J26: =K26*I26 -> 0 | K26: =$K$9 -> 0 | L26: =I26+J26 -> 0
A27: 4. INFRA-ESTRUTURA / FUNDAÇÕES SIMPLES | M27: =SUM(L28:L29) -> 0
A28: 4. 4. BLOCOS
A29: .1 CONCRETO FCK15MPA - PREPARO, LAÇAMENTO E CURA | B29: 0.88 | C29: M3 | E29: =D29*B29 -> 0 | G29: =F29*B29 -> 0 | H29: =+D29+F29 -> 0 | I29: =E29+G29 -> 0 | J29: =K29*I29 -> 0 | K29: =$K$9 -> 0 | L29: =I29+J29 -> 0
A30: 9. COBERTURA | E30: =D30*B30 -> 0 | G30: =F30*B30 -> 0 | H30: =+D30+F30 -> 0 | I30: =E30+G30 -> 0 | J30: =K30*I30 -> 0 | L30: =I30+J30 -> 0 | M30: =SUM(L33:L40) -> 0
A31: 9. 1. ESTRUTURA | E31: =D31*B31 -> 0 | G31: =F31*B31 -> 0 | H31: =+D31+F31 -> 0 | I31: =E31+G31 -> 0 | J31: =K31*I31 -> 0 | L31: =I31+J31 -> 0
A32: 9. 1. 2. METÁLICA | E32: =D32*B32 -> 0 | G32: =F32*B32 -> 0 | H32: =+D32+F32 -> 0 | I32: =E32+G32 -> 0 | J32: =K32*I32 -> 0 | L32: =I32+J32 -> 0
A33: .1 TUBO DE AÇO GALVANIZADO MÉDIO 3" (76mm) | B33: 39 | C33: M | E33: =D33*B33 -> 0 | G33: =F33*B33 -> 0 | H33: =+D33+F33 -> 0 | I33: =E33+G33 -> 0 | J33: =K33*I33 -> 0 | K33: =$K$9 -> 0 | L33: =I33+J33 -> 0
A34: .2 CANTONEIRA "L" 20X20X3MM, E= 0,5 | B34: 30 | C34: M | E34: =D34*B34 -> 0 | G34: =F34*B34 -> 0 | H34: =+D34+F34 -> 0 | I34: =E34+G34 -> 0 | J34: =K34*I34 -> 0 | K34: =$K$9 -> 0 | L34: =I34+J34 -> 0
A35: .3 PERFIL "U" 40X80X40X2,65MM | B35: 45 | C35: M | E35: =D35*B35 -> 0 | G35: =F35*B35 -> 0 | H35: =+D35+F35 -> 0 | I35: =E35+G35 -> 0 | J35: =K35*I35 -> 0 | K35: =$K$9 -> 0 | L35: =I35+J35 -> 0
A36: 9. 2. TELHAMENTO | E36: =D36*B36 -> 0 | G36: =F36*B36 -> 0 | H36: =+D36+F36 -> 0 | I36: =E36+G36 -> 0 | J36: =K36*I36 -> 0 | L36: =I36+J36 -> 0
A37: 9. 2. 2. COM TELHAS METÁLICAS | E37: =D37*B37 -> 0 | G37: =F37*B37 -> 0 | H37: =+D37+F37 -> 0 | I37: =E37+G37 -> 0 | J37: =K37*I37 -> 0 | L37: =I37+J37 -> 0
A38: .1 COBERTURA COM TELHA AÇO ZINCADO TRAPEZOIDAL | B38: 62 | C38: M2 | E38: =D38*B38 -> 0 | G38: =F38*B38 -> 0 | H38: =+D38+F38 -> 0 | I38: =E38+G38 -> 0 | J38: =K38*I38 -> 0 | K38: =$K$9 -> 0 | L38: =I38+J38 -> 0
A39: 9. 4. RUFOS E CAPAS | E39: =D39*B39 -> 0 | G39: =F39*B39 -> 0 | H39: =+D39+F39 -> 0 | I39: =E39+G39 -> 0 | J39: =K39*I39 -> 0 | L39: =I39+J39 -> 0
A40: .1 RUFO EM CHAPA GALVANIZADA CORTE 50 - TRAPEZOIDAL | B40: 5 | C40: M | E40: =D40*B40 -> 0 | G40: =F40*B40 -> 0 | H40: =+D40+F40 -> 0 | I40: =E40+G40 -> 0 | J40: =K40*I40 -> 0 | K40: =$K$9 -> 0 | L40: =I40+J40 -> 0
A41: 17. PINTURA | E41: =D41*B41 -> 0 | G41: =F41*B41 -> 0 | H41: =+D41+F41 -> 0 | I41: =E41+G41 -> 0 | J41: =K41*I41 -> 0 | L41: =I41+J41 -> 0 | M41: =SUM(L42:L45) -> 0
A42: 17.9. FUNDO SOBRE METAL | E42: =D42*B42 -> 0 | G42: =F42*B42 -> 0 | H42: =+D42+F42 -> 0 | I42: =E42+G42 -> 0 | J42: =K42*I42 -> 0 | L42: =I42+J42 -> 0
A43: .1 FUNDO CROMADO DE ZINCO - 1 DEMÃO | B43: 35.39 | C43: M2 | E43: =D43*B43 -> 0 | G43: =F43*B43 -> 0 | H43: =+D43+F43 -> 0 | I43: =E43+G43 -> 0 | J43: =K43*I43 -> 0 | K43: =$K$9 -> 0 | L43: =I43+J43 -> 0
A44: 17.10. ESMALTE SOBRE METAL | E44: =D44*B44 -> 0 | G44: =F44*B44 -> 0 | H44: =+D44+F44 -> 0 | I44: =E44+G44 -> 0 | J44: =K44*I44 -> 0 | L44: =I44+J44 -> 0
A45: .1 PINTURA ESMALTE BRILH.S/METAL-2 DEMÃO | B45: 35.39 | C45: M2 | E45: =D45*B45 -> 0 | G45: =F45*B45 -> 0 | H45: =+D45+F45 -> 0 | I45: =E45+G45 -> 0 | J45: =K45*I45 -> 0 | K45: =$K$9 -> 0 | L45: =I45+J45 -> 0
A46: 18. SERVIÇOS COMPLEMENTARES | E46: =D46*B46 -> 0 | G46: =F46*B46 -> 0 | H46: =+D46+F46 -> 0 | I46: =E46+G46 -> 0 | J46: =K46*I46 -> 0 | L46: =I46+J46 -> 0 | M46: =SUM(L47:L50) -> 0
A47: 18. 5. LIMPEZA E ENTREGA DA OBRA | E47: =D47*B47 -> 0 | G47: =F47*B47 -> 0 | H47: =+D47+F47 -> 0 | I47: =E47+G47 -> 0 | J47: =K47*I47 -> 0 | L47: =I47+J47 -> 0
A48: .1 LIMPEZA FINAL DA OBRA | B48: 62 | C48: M2 | E48: =D48*B48 -> 0 | G48: =F48*B48 -> 0 | H48: =+D48+F48 -> 0 | I48: =E48+G48 -> 0 | J48: =K48*I48 -> 0 | K48: =$K$9 -> 0 | L48: =I48+J48 -> 0
A49: 21. 1. ADMINISTRAÇÃO DA OBRA | E49: =D49*B49 -> 0 | G49: =F49*B49 -> 0 | H49: =+D49+F49 -> 0 | I49: =E49+G49 -> 0 | J49: =K49*I49 -> 0 | L49: =I49+J49 -> 0 | M49: =SUM(L50:L53) -> 0
A50: 21. 1. 1. DESPESAS COM PESSOAL | E50: =D50*B50 -> 0 | G50: =F50*B50 -> 0 | H50: =+D50+F50 -> 0 | I50: =E50+G50 -> 0 | J50: =K50*I50 -> 0 | L50: =I50+J50 -> 0
A51: .1 MESTRE DE OBRAS | B51: 1 | C51: MS | E51: =D51*B51 -> 0 | G51: =F51*B51 -> 0 | H51: =+D51+F51 -> 0 | I51: =E51+G51 -> 0 | J51: =K51*I51 -> 0 | K51: =$K$9 -> 0 | L51: =I51+J51 -> 0
H52: TOTAL DO ORÇAMENTO | M52: =SUM(M13:M51) -> 0
I54: Local e Data
I57: Nome do Profissional Responsável
I58: Especificação do Cargo/função
I59: N° do CREA ou CAU

Sheet Cronograma
A1: INCLUIR LOGOTIPO DA EMPRESA
A6: DADOS DA EMPRESA
A7: DADOS DA EMPRESA
A8: DADOS DA EMPRESA
A10: ITEM | B10: 30 dias | D10: TOTAL
B11: VALOR | C11: % | D11: VALOR | E11: %
A12: 2. SERVIÇOS PRELIMINARES / TÉCNICOS | B12: ='Orçamento EMPRESA'!M13 -> 0 | C12: 1 | D12: =B12 -> 0 | E12: 1
A13: 3. MOVIMENTO DE TERRA | B13: ='Orçamento EMPRESA'!M24 -> 0 | C13: 1 | D13: =B13 -> 0 | E13: 1
A14: 4. INFRA-ESTRUTURA / FUNDAÇÕES SIMPLES | B14: ='Orçamento EMPRESA'!M27 -> 0 | C14: 1 | D14: =B14 -> 0 | E14: 1
A15: 9. COBERTURA | B15: ='Orçamento EMPRESA'!M30 -> 0 | C15: 1 | D15: =B15 -> 0 | E15: 1
A16: 17. PINTURA | B16: ='Orçamento EMPRESA'!M41 -> 0 | C16: 1 | D16: =B16 -> 0 | E16: 1
A17: 18. SERVIÇOS COMPLEMENTARES | B17: ='Orçamento EMPRESA'!M46 -> 0 | C17: 1 | D17: =B17 -> 0 | E17: 1
A18: 21. GERENCIAMENTO DE OBRAS / FISCALIZAÇÃO | B18: ='Orçamento EMPRESA'!M49 -> 0 | C18: 1 | D18: =B18 -> 0 | E18: 1
A19: Total da Etapa | B19: =SUM(B12:B18) -> 0 | C19: 1 | D19: =SUM(D12:D18) -> 0 | E19: 1
D22: Local e Data
D25: Nome do Profissional Responsável
D26: Especificação do Cargo/função
D27: N° do CREA ou CAU
A49: Inst. Fed. de Educ., Ciencia e Tecnol. Sul-rio-grandense
A50: CNPJ 10.729.992/0001-46
A51: Rua Gonçalves Chaves, 3218, Centro - Pelotas - Fone 53 - 3026-6211 / 3026-6210
A52: email: dpo@ifsul.edu.br / dpo_cproj@ifsul.edu.br
