Workbook

Sheet MANUT. PREDIAL
A1: AUXILIAR DE MANUTENÇÃO PREDIAL - Regime de Tributação: Lucro Real
A2: Pregão IFSul nº – Câmpus Camaquã PLANILHA DE CUSTOS E FORMAÇÃO DE PREÇOS
A3: Nº do processo:
A4: Licitação nº:
A5: Dia:
A6: DISCRIMINAÇÃO DOS SERVIÇOS (DADOS REFERENTES À CONTRATAÇÃO)
A7: A | B7: Data de apresentação da proposta (dia/mês/ano)
A8: B | B8: Município/UF | H8: Camaquã/RS
A9: C | B9: Ano do Acordo, Convenção ou Dissídio Coletivo | H9: RS002380/2026
A10: D | B10: Número de meses de execução contratual | H10: 12
A11: IDENTIFICAÇÃO DO SERVIÇO
A13: 1. MÓDULOS Mão de obra Mão de obra vinculada à execução contratual
A15: Dados para composição dos custos referente à mão de obra
A16: 1 | B16: Tipo de Serviço (mesmo serviço com características distintas) | H16: Auxiliar de Manutenção Predial
A17: 2 | B17: Classificação Brasileira de Ocupações (CBO) | H17: 5143 - 10
A18: 3 | B18: Salário Normativo da Categoria Profissional - para a jornada de 44 h/sem | H18: 2107.6
A19: 4 | B19: Categoria Profissional (vinculada à execução contratual) | H19: Auxiliar de manutenção predial
A20: 5 | B20: Data-Base da Categoria (dia/mês/ano) | H20: 46174
A22: Módulo 1: Composição da Remuneração
A23: 1 | B23: Composição da Remuneração | H23: Percentual (R$) | J23: Valor (R$)
A24: A | B24: Salário-Base (valor para somente 1 auxiliar de manutenção predial - 44h/semanais) | J24: =H18 -> 2107.6
A25: B | B25: Adicional de Insalubridade | I25: 0.2 | J25: =ROUND(I25*J24,2) -> 421.52
A26: Total | J26: =SUM(J24:J25) -> 2529.12
A28: Módulo 2 – Encargos e Benefícios Anuais, Mensais e Diários
A29: Submódulo 2.1 – 13º (décimo terceiro) Salário e Adicional de Férias
A30: 2.1 | B30: 13º (décimo terceiro) Salário e Adicional de Férias | J30: Valor (R$)
A31: A | B31: 13º (décimo terceiro) Salário Obrigatória a cotação de 8,33% sobre o valor do Módulo 1 – Composição da Remuneração, conforme Anexo XII da IN 5/17 | I31: 0.0833 | J31: =ROUND($J$26*I31,2) -> 210.68
A32: B | B32: Adicional de Férias Obrigatória a cotação de 3,025% sobre o valor do Módulo 1 – Composição da Remuneração, conforme Anexo XII da IN 5/17 (Férias + Adicional = 9,075% + 3,025% = 12,10%) | I32: 0.03025 | J32: =ROUND($J$26*I32,2) -> 76.51
A33: Total | J33: =SUM(J31+J32) -> 287.19
A34: C | B34: Incidência dos encargos do Submódulo 2.2 sobre o total do Submódulo 2.1 | J34: =ROUND(I47*J33,2) -> 102.96
A35: Total | J35: =J33+J34 -> 390.15
A37: Submódulo 2.2 - Encargos Previdenciários (GPS), Fundo de Garantia por Tempo de Serviço (FGTS) e outras contribuições
A38: 2.2 | B38: GPS, FGTS e outras contribuições | I38: Percentual (%) | J38: Valor (R$)
A39: A | B39: INSS | I39: 0.2 | J39: =ROUND($J$26*I39,2) -> 505.82
A40: B | B40: Salário Educação | I40: 0.025 | J40: =ROUND($J$26*I40,2) -> 63.23
A41: C | B41: RAT x FAP | E41: RAT = | F41: 0.02 | G41: FAP = | H41: 1.0257 | I41: =ROUND((F41*H41),6) -> 0.020514 | J41: =ROUND($J$26*I41,2) -> 51.88
A42: D | B42: SESC ou SESI | I42: 0.015 | J42: =ROUND($J$26*I42,2) -> 37.94
A43: E | B43: SENAC ou SENAI | I43: 0.01 | J43: =ROUND($J$26*I43,2) -> 25.29
A44: F | B44: SEBRAE | I44: 0.006 | J44: =ROUND($J$26*I44,2) -> 15.17
A45: G | B45: INCRA | I45: 0.002 | J45: =ROUND($J$26*I45,2) -> 5.06
...

Sheet INSUMOS AUX MANUT
A1: AUXILIAR DE MANUTENÇÃO PREDIAL - Regime de Tributação: Lucro Real
A2: Pregão nº – CÂMPUS CAMAQUÃ PLANILHA DE CUSTOS E FORMAÇÃO DE PREÇOS
A3: Nº do processo:
A4: Licitação nº: | F4: Licitação nº:
A5: Dia:
A7: EPI's | B7: Unidade | C7: Quantidade Anual | D7: Valor Unitário | E7: Custo Anual
A8: ÓCULOS DE PROTEÇÃO INDIVIDUAL, MATERIAL ARMAÇÃO POLICARBONATO, MATERIAL LENTE POLICARBONATO, TIPO LENTE ANTIEMBASSANTE E ANTICHAMA, MODELO LENTES ACOPLÁVEISAO ROSTO, CARACTERÍSTICAS ADICIONAIS COM CORDÃO ELÁSTICO PARA FIXAÇÃO NA CABEÇA | B8: Peça | C8: 4 | D8: 5.46 | E8: =C8*D8 -> 21.84
A9: LUVA INDUSTRIAL, MATERIAL RASPA DE COURO, REVESTIMENTO INTERNO SEM FORRO, TAMANHO ÚNICO, TAMANHO CANO CURTO | B9: par | C9: 4 | D9: 12.07 | E9: =C9*D9 -> 48.28
A10: LUVA BORRACHA, MATERIAL BORRACHA NITRÍLICA, TAMANHO PEQUENO, CARACTERÍSTICAS ADICIONAIS ANATÔMICA, ESPESSURA 0,56 MM, TIPO PROTEÇÃO PRODUTOS QUÍMICOS | B10: par | C10: 6 | D10: 7.79 | E10: =C10*D10 -> 46.74
A11: CAPA DE CHUVA, TIPO MORCEGO, COR AMARELA, CONFECCIONADA EM TECIDO SINTÉTICO (PVC FORRADO), REVESTIDO EM PVC EM UMA DAS FACES, COM FECHAMENTO COM BOTÕES PLÁSTICOS DE PRESSÃO | B11: peça | C11: 2 | D11: 19 | E11: =C11*D11 -> 38
A12: CAPACETE SEGURANÇA , MATERIAL POLIETILENO ALTA DENSIDADE, TIPO ABA BONÉ, TIPO COPA COM ESTRIAS E CASCO RÍGIDO, COR BRANCA, APLICAÇÃO GRUPO DE SALVAMENTO, CARACTERÍSTICAS ADICIONAIS, SUSPENSÃO COM CARNEIRA AJUSTÁVEL | B12: peça | C12: 2 | D12: 23.26 | E12: =C12*D12 -> 46.52
A13: BOTA DE BORRACHA PVC IMPERMEÁVEL CANO LONGO, COR PRETA | B13: par | C13: 2 | D13: 54 | E13: =C13*D13 -> 108
A14: RESPIRADOR, MATERIAL TERMOPLÁSTICO, CARACTERÍSTICAS ADICIONAIS COM ADAPTADOR, TIPO SEMIFACIAL | B14: peça | C14: 2 | D14: 75.75 | E14: =C14*D14 -> 151.5
A15: LUVA PROTEÇÃO, MATERIAL NYLON COM POLIURETANO, TAMANHO CANO CURTO, TIPO 5 DEDOS, AMBIDESTRA, APLICAÇÃO SERVIÇOS GERAIS, CARACTERÍSTICAS ADICIONAIS SEMCOSTURA, LISA, ELÁSTICO NO PUNHO | B15: par | C15: 24 | D15: 8.8 | E15: =C15*D15 -> 211.2
A16: ABAFADOR RUÍDO AURICULAR, MATERIAL PLÁSTICO RÍGIDO, COR PRETA, FORMATO CONCHA OVAL, CARACTERÍSTICAS ADICIONAIS NÍVEL DE REDUÇÃO RUÍDO NRR 23 DB E NRRSF 18 DB | B16: peça | C16: 2 | D16: 25.74 | E16: =C16*D16 -> 51.48
A17: Abafador de ruído tipo plug, em silicone ou similar, com cordão e valores médios de atenuação acústica de 17 dB (NRRsf), nas altas freqüências, de acordo com a Norma ANSI 12.6/1997. | B17: par | C17: 24 | D17: 1.66 | E17: =C17*D17 -> 39.84
A18: CUSTO ANUAL DOS EPI's PARA 1 POSTO ( AUXILIAR DE MANUTENÇÃO PREDIAL | E18: =SUM(E8:E17) -> 763.4
A19: CUSTO MENSALEPI's PARA 1 POSTO (AUXILIAR DE MANUTENÇÃO PREDIAL | E19: =E18/12 -> 63.616667
A21: UNIFORMES | B21: Unidade | C21: Quantidade Anual | D21: Valor Unitário | E21: Custo Anual
A22: Bota segurança, material: couro, material sola: borracha antiderrapante, cor: preta, biqueira de aço, sem cadarço | B22: par | C22: 4 | D22: 54 | E22: =C22*D22 -> 216
A23: Calça de uniforme (tipo brim) | B23: peça | C23: 4 | D23: 49.19 | E23: =C23*D23 -> 196.76
A24: Camiseta de manga curta com logotipo e nome da contratada | B24: peça | C24: 10 | D24: 26 | E24: =C24*D24 -> 260
A25: Camiseta de manga longa com logotipo e nome da contratada | B25: peça | C25: 6 | D25: 23 | E25: =C25*D25 -> 138
A26: Moletom firme com logotipo e nome da contratada | B26: peça | C26: 4 | D26: 55.99 | E26: =C26*D26 -> 223.96
A27: Jaqueta, forrada com elástico nos punhos e firme com logotipo e nome da contratada | B27: peça | C27: 2 | D27: 165 | E27: =C27*D27 -> 330
A28: CUSTO ANUAL DOS UNIFORMES PARA 1 POSTO (AUXILIAR DE MANUTENÇÃO PREDIAL | E28: =SUM(E22:E27) -> 1364.72
A29: CUSTO MENSAL DOS UNIFORMES PARA 1 POSTO (AUXILIAR DE MANUTENÇÃO PREDIAL | E29: =E28/12 -> 113.72667
A31: QUADRO RESUMO | B31: CUSTO ANUAL | D31: CUSTO MENSAL
A32: EPI's | B32: =E18 -> 763.4 | D32: =E19 -> 63.616667
A34: UNIFORMES | B34: =E28 -> 1364.72 | D34: =E29 -> 113.72667
A36: TOTAIS | B36: =SUM(B32,B34) -> 2128.12 | D36: =SUM(D32,D34) -> 177.34333
A38: Quantidade da mão de obra alocada na prestação dos serviços | G38: 1
A39: OBS.: Pesquisa de preços realizado no Painel de preços do Governo Federal pelo site: http://paineldeprecos.planejamento.gov.br/

Sheet RESUMO MANUT
A1: AUXILIAR DE MANUTENÇÃO PREDIAL - Regime de Tributação: Lucro Real
A2: Pregão nº – CÂMPUS CAMAQUÃ PLANILHA DE CUSTOS E FORMAÇÃO DE PREÇOS
A3: Nº do processo:
A4: Licitação nº: | F4: ='MANUT. PREDIAL'!A4 -> Licitação nº:
A5: DATA:
A6: DISCRIMINAÇÃO DOS SERVIÇOS (DADOS REFERENTES À CONTRATAÇÃO)
A7: A | B7: Data de apresentação da proposta (dia/mês/ano)
A8: B | B8: Município/UF | F8: Camaquã/RS
A9: C | B9: Ano do Acordo, Convenção ou Dissídio Coletivo | F9: ='MANUT. PREDIAL'!H9 -> RS002380/2026
A10: D | B10: Número de meses de execução contratual | F10: 12
A12: VALOR MENSAL DOS SERVIÇOS
A13: ITEM | B13: Tipo de serviço (A) | C13: Valor Proposto por Empregado (B) | D13: Qtde. de Empregados por Posto (C) | E13: Valor Proposto por Posto (D) = (B x C) | F13: Qtde. de Postos (E) | G13: Valor Total do Serviço (F) = (D x E)
A14: 2 | B14: Auxiliar de Manutenção Predial | C14: ='MANUT. PREDIAL'!J146 -> 6107.7347 | D14: 1 | E14: =C14*D14 -> 6107.7347 | F14: 2 | G14: =E14*2 -> 12215.469
A16: Valor Mensal dos Serviços | G16: =SUM(G14) -> 12215.469
A18: QUADRO DEMONSTRATIVO DO VALOR GLOBAL DA PROPOSTA
A19: A | B19: Valor mensal do serviço | G19: =G16 -> 12215.469
A20: B | B20: Número de meses do Contrato | G20: 12
A21: C | B21: Valor Global do Proposta (Valor mensal do serviço x nº de meses do contrato). | G21: =G16*12 -> 146585.63
